BEGIN:VCALENDAR
VERSION:2.0
PRODID:-//Golden Beach Hotel - ECPv6.15.14//NONSGML v1.0//EN
CALSCALE:GREGORIAN
METHOD:PUBLISH
X-ORIGINAL-URL:https://goldenbeachhotel.com.br
X-WR-CALDESC:Eventos para Golden Beach Hotel
REFRESH-INTERVAL;VALUE=DURATION:PT1H
X-Robots-Tag:noindex
X-PUBLISHED-TTL:PT1H
BEGIN:VTIMEZONE
TZID:UTC
BEGIN:STANDARD
TZOFFSETFROM:+0000
TZOFFSETTO:+0000
TZNAME:UTC
DTSTART:20250101T000000
END:STANDARD
END:VTIMEZONE
BEGIN:VEVENT
DTSTART;VALUE=DATE:20260401
DTEND;VALUE=DATE:20260404
DTSTAMP:20260415T051549
CREATED:20251106T185331Z
LAST-MODIFIED:20251106T185406Z
UID:8881-1775001600-1775260799@goldenbeachhotel.com.br
SUMMARY:Congresso Cearense de Contratações Públicas - C3P 2026 - 2º Edição
DESCRIPTION:Prepare-se para a Congresso Cearense de Contratações Públicas – 2ª Edição do C3P 2026! Consolidado como o evento regional mais abrangente e relevante\, o C3P oferece uma atualização essencial sobre as mais recentes regras\, inovações e tendências no dinâmico cenário das licitações e contratos públicos. \nDe 01 a 03 de abril de 2025\, Fortaleza será o palco deste encontro estratégico. O congresso reunirá uma seleta equipe dos maiores especialistas do país\, proporcionando aos participantes uma imersão profunda e prática no universo das contratações públicas. \nA programação foi cuidadosamente elaborada para ser diversificada e impactante\, focando em temas cruciais como a aplicação e os desafios da nova Lei de Licitações e Contratos Administrativos (Lei nº 14.133/2021). Abordaremos desde inovações tecnológicas e as melhores práticas em gestão de contratos até o controle social e a governança nas aquisições públicas. \nAlém de palestras inspiradoras\, o C3P contará com workshops interativos\, painéis de discussão enriquecedores e amplas oportunidades de networking. É o ambiente ideal para trocar experiências valiosas\, aprofundar conhecimentos e estabelecer conexões estratégicas com profissionais de todo o Brasil\, garantindo que você esteja à frente nas demandas do setor. \nFortaleza\, 60165-010\, Avenida Monsenhor Tabosa\, Centro\, Fortaleza\, Ceará
URL:https://goldenbeachhotel.com.br/eventos/congresso-cearense-de-contratacoes-publicas-c3p-2026-2o-edicao/
LOCATION:Centro de Eventos do Ceará\, Av. Washington Soares\, 999 - Edson Queiroz\, Fortaleza\, Ceará\, Brazil
CATEGORIES:Congresso
END:VEVENT
BEGIN:VEVENT
DTSTART;VALUE=DATE:20260403
DTEND;VALUE=DATE:20260405
DTSTAMP:20260415T051549
CREATED:20260206T193412Z
LAST-MODIFIED:20260206T193526Z
UID:9158-1775174400-1775347199@goldenbeachhotel.com.br
SUMMARY:CONA FISCAL
DESCRIPTION:
URL:https://goldenbeachhotel.com.br/eventos/cona-fiscal/
LOCATION:Centro de Eventos do Ceará\, Av. Washington Soares\, 999 - Edson Queiroz\, Fortaleza\, Ceará\, Brazil
CATEGORIES:Congresso
END:VEVENT
END:VCALENDAR