BEGIN:VCALENDAR
VERSION:2.0
PRODID:-//Golden Beach Hotel - ECPv6.15.14//NONSGML v1.0//EN
CALSCALE:GREGORIAN
METHOD:PUBLISH
X-WR-CALNAME:Golden Beach Hotel
X-ORIGINAL-URL:https://goldenbeachhotel.com.br
X-WR-CALDESC:Eventos para Golden Beach Hotel
REFRESH-INTERVAL;VALUE=DURATION:PT1H
X-Robots-Tag:noindex
X-PUBLISHED-TTL:PT1H
BEGIN:VTIMEZONE
TZID:UTC
BEGIN:STANDARD
TZOFFSETFROM:+0000
TZOFFSETTO:+0000
TZNAME:UTC
DTSTART:20250101T000000
END:STANDARD
END:VTIMEZONE
BEGIN:VEVENT
DTSTART;VALUE=DATE:20260321
DTEND;VALUE=DATE:20260324
DTSTAMP:20260415T013243
CREATED:20260227T162034Z
LAST-MODIFIED:20260227T165349Z
UID:9492-1774051200-1774310399@goldenbeachhotel.com.br
SUMMARY:CNTC 2026 - 3º Congresso no Nordeste de Terapia Capilar
DESCRIPTION:O 3º Congresso no Nordeste de Terapia Capilar foi pensado para oferecer muito mais do que conteúdo: ele entrega segurança\, estrutura\, clareza e uma experiência profissional completa. \n📚 Conteúdo científico aplicado à prática\n🤝 Networking real com profissionais e marcas do Brasil inteiro\n🏨 Estrutura confortável\, acessível e preparada para receber você\n💳 Facilidade de pagamento e política transparente de cancelamento e transferência \nTudo foi cuidadosamente planejado para que você possa se organizar com tranquilidade e focar no que realmente importa: evoluir como profissional e fortalecer sua atuação na terapia capilar. \n📍 21 a 23 de março de 2026\n📍 Hotel Vila Galé – Fortaleza/CE \nSe a terapia capilar faz parte da sua missão\, esse encontro faz parte do seu caminho.
URL:https://goldenbeachhotel.com.br/eventos/cntc-2026-3o-congresso-no-nordeste-de-terapia-capilar/
LOCATION:Vila Galé\, Avenida Dioguinho\, 4189 Praia do Futuro\, Fortaleza\, Ceará\, 60183707\, Brazil
CATEGORIES:Congresso
END:VEVENT
BEGIN:VEVENT
DTSTART;VALUE=DATE:20260323
DTEND;VALUE=DATE:20260325
DTSTAMP:20260415T013243
CREATED:20260206T193052Z
LAST-MODIFIED:20260206T193052Z
UID:9154-1774224000-1774396799@goldenbeachhotel.com.br
SUMMARY:NORDESTE FASHION FIGITAL
DESCRIPTION:  \n\n\n\n\n\n\n\n\n\n\n\n\nO algoritimo das confecções do futuro!\n\n\nMenos improviso.\nMais método.\nMais Lucro.\n\n\n  \nO evento que conecta produção\, gestão\, marketing e vendas no novo jogo da confecção.
URL:https://goldenbeachhotel.com.br/eventos/nordeste-fashion-figital/
LOCATION:Centro de Eventos do Ceará\, Av. Washington Soares\, 999 - Edson Queiroz\, Fortaleza\, Ceará\, Brazil
CATEGORIES:Congresso
END:VEVENT
END:VCALENDAR