BEGIN:VCALENDAR
VERSION:2.0
PRODID:-//Golden Beach Hotel - ECPv6.15.14//NONSGML v1.0//EN
CALSCALE:GREGORIAN
METHOD:PUBLISH
X-ORIGINAL-URL:https://goldenbeachhotel.com.br
X-WR-CALDESC:Eventos para Golden Beach Hotel
REFRESH-INTERVAL;VALUE=DURATION:PT1H
X-Robots-Tag:noindex
X-PUBLISHED-TTL:PT1H
BEGIN:VTIMEZONE
TZID:UTC
BEGIN:STANDARD
TZOFFSETFROM:+0000
TZOFFSETTO:+0000
TZNAME:UTC
DTSTART:20250101T000000
END:STANDARD
END:VTIMEZONE
BEGIN:VEVENT
DTSTART;VALUE=DATE:20260130
DTEND;VALUE=DATE:20260202
DTSTAMP:20260414T102116
CREATED:20260119T165323Z
LAST-MODIFIED:20260119T165403Z
UID:9000-1769731200-1769990399@goldenbeachhotel.com.br
SUMMARY:SANA 2026 | 01
DESCRIPTION:O Sana é o maior evento geek do Norte e Nordeste do Brasil\, reunindo fãs de anime\, mangá\, tokusatsu\, videogames\, cultura geek\, cultura pop e entretenimento em uma experiência única.
URL:https://goldenbeachhotel.com.br/eventos/sana-2026-01/
LOCATION:Centro de Eventos do Ceará\, Av. Washington Soares\, 999 - Edson Queiroz\, Fortaleza\, Ceará\, Brazil
CATEGORIES:Congresso
END:VEVENT
END:VCALENDAR