BEGIN:VCALENDAR
VERSION:2.0
PRODID:-//Golden Beach Hotel - ECPv6.15.14//NONSGML v1.0//EN
CALSCALE:GREGORIAN
METHOD:PUBLISH
X-ORIGINAL-URL:https://goldenbeachhotel.com.br
X-WR-CALDESC:Eventos para Golden Beach Hotel
REFRESH-INTERVAL;VALUE=DURATION:PT1H
X-Robots-Tag:noindex
X-PUBLISHED-TTL:PT1H
BEGIN:VTIMEZONE
TZID:UTC
BEGIN:STANDARD
TZOFFSETFROM:+0000
TZOFFSETTO:+0000
TZNAME:UTC
DTSTART:20240101T000000
END:STANDARD
END:VTIMEZONE
BEGIN:VEVENT
DTSTART;VALUE=DATE:20251119
DTEND;VALUE=DATE:20251124
DTSTAMP:20260415T035426
CREATED:20251001T171404Z
LAST-MODIFIED:20251001T171426Z
UID:8812-1763510400-1763942399@goldenbeachhotel.com.br
SUMMARY:Campeonato Brasileiro de Karatê CNKB e Pan-Americano de Karatê WKA
DESCRIPTION:Entre os dias 19 e 23 de novembro de 2025\, ocorrerá em Fortaleza\, no Ceará\, o Campeonato Brasileiro de Karatê CNKB e o Pan-Americano de Karatê WKA. O evento\, um dos maiores do ano para o karatê no Brasil\, será realizado no Ginásio Paulo Sarasate. \n\nQuem pode se inscrever? \n\n\n\nAtletas interessados devem entrar em contato com seus professores e manifestar o desejo de participar através de pré-inscrições. A confirmação da inscrição ocorrerá após o envio do comprovante de pagamento do valor integral das inscrições.  \n\n\n\n\n\n\n\n\n\n\n\n\nPara mais informações:\n\n\n\n\nVisite o site da Federação Cearense de Karatê Esportivo (FCKE)  \n\n\n\nProcure o regulamento\, programação e mais informações sobre as inscrições nas redes sociais do evento.  \n\n\n 
URL:https://goldenbeachhotel.com.br/eventos/campeonato-brasileiro-de-karate-cnkb-e-pan-americano-de-karate-wka/
LOCATION:Ginásio Paulo Sarasate\, R. Ildefonso Albano\, 2050\, Fortaleza\, Ceará\, 60115-000\, Brazil
CATEGORIES:Congresso
END:VEVENT
END:VCALENDAR