BEGIN:VCALENDAR
VERSION:2.0
PRODID:-//Golden Beach Hotel - ECPv6.15.14//NONSGML v1.0//EN
CALSCALE:GREGORIAN
METHOD:PUBLISH
X-ORIGINAL-URL:https://goldenbeachhotel.com.br
X-WR-CALDESC:Eventos para Golden Beach Hotel
REFRESH-INTERVAL;VALUE=DURATION:PT1H
X-Robots-Tag:noindex
X-PUBLISHED-TTL:PT1H
BEGIN:VTIMEZONE
TZID:UTC
BEGIN:STANDARD
TZOFFSETFROM:+0000
TZOFFSETTO:+0000
TZNAME:UTC
DTSTART:20240101T000000
END:STANDARD
END:VTIMEZONE
BEGIN:VEVENT
DTSTART;VALUE=DATE:20251113
DTEND;VALUE=DATE:20251116
DTSTAMP:20260415T035531
CREATED:20250926T130122Z
LAST-MODIFIED:20250926T130231Z
UID:8806-1762992000-1763251199@goldenbeachhotel.com.br
SUMMARY:2ª Edição Leite & Corte +NE
DESCRIPTION:O Leite e Corte +NE foi criado para proporcionar a todos os envolvidos na cadeia da pecuária de leite e corte\, acesso a conhecimentos\, troca de experiências e novas ideias\, permitindo que as pessoas possam transformar seus negócios. \nNa edição passada contamos com a participação de mais de 500 pessoas e também com o apoio de mais de 30 empresas patrocinadoras. \nNossos principais objetivos são: \nCAPACITAÇÃO: Capacitação dos supervisores e colaboradores em assuntos técnicos e gerenciais \nOPORTUNIDADES: Proporcionar oportunidades para que os produtores rurais possam tomar decisões mais assertivas sobre os seus negócios \nNETWORK: Promover network entre produtores\, cooperativas\, empresas\, revendas para gerar muitos negócios \nEntre os principais temas abordados estão: \nProdução de Volumoso; Reprodução; Nutrição; Gestão; Manejo; Tecnologia; entre outros \n 
URL:https://goldenbeachhotel.com.br/eventos/2-edicao-leite-e-corte/
LOCATION:Vila Galé\, Avenida Dioguinho\, 4189 Praia do Futuro\, Fortaleza\, Ceará\, 60183707\, Brazil
CATEGORIES:Congresso
END:VEVENT
END:VCALENDAR