BEGIN:VCALENDAR
VERSION:2.0
PRODID:-//Golden Beach Hotel - ECPv6.15.14//NONSGML v1.0//EN
CALSCALE:GREGORIAN
METHOD:PUBLISH
X-WR-CALNAME:Golden Beach Hotel
X-ORIGINAL-URL:https://goldenbeachhotel.com.br
X-WR-CALDESC:Eventos para Golden Beach Hotel
REFRESH-INTERVAL;VALUE=DURATION:PT1H
X-Robots-Tag:noindex
X-PUBLISHED-TTL:PT1H
BEGIN:VTIMEZONE
TZID:UTC
BEGIN:STANDARD
TZOFFSETFROM:+0000
TZOFFSETTO:+0000
TZNAME:UTC
DTSTART:20240101T000000
END:STANDARD
END:VTIMEZONE
BEGIN:VEVENT
DTSTART;VALUE=DATE:20251206
DTEND;VALUE=DATE:20251207
DTSTAMP:20260414T235738
CREATED:20251106T163039Z
LAST-MODIFIED:20251106T163857Z
UID:8873-1764979200-1765065599@goldenbeachhotel.com.br
SUMMARY:O Código do Arremate
DESCRIPTION:  \n \nDesvende o mercado mais lucrativo do Brasil\nEnquanto muitos ainda veem o leilão como algo complicado ou arriscado\, vários investidores já descobriram o caminho para multiplicar patrimônio com imóveis — pagando valores muito abaixo do valor de mercado. \nO Código do Arremate é o evento criado para revelar\, passo a passo\, como transformar oportunidades em patrimônio real.Chegou a hora de entender o jogo\, entrar nele com confiança e nunca mais deixar boas oportunidades passarem.
URL:https://goldenbeachhotel.com.br/eventos/o-codigo-do-arremate/
LOCATION:Vila Galé\, Avenida Dioguinho\, 4189 Praia do Futuro\, Fortaleza\, Ceará\, 60183707\, Brazil
CATEGORIES:Congresso
END:VEVENT
END:VCALENDAR